BEGIN:VCALENDAR
VERSION:2.0
PRODID:-//Gnome Games - ECPv6.15.20//NONSGML v1.0//EN
CALSCALE:GREGORIAN
METHOD:PUBLISH
X-ORIGINAL-URL:https://gnomegames.com
X-WR-CALDESC:Events for Gnome Games
REFRESH-INTERVAL;VALUE=DURATION:PT1H
X-Robots-Tag:noindex
X-PUBLISHED-TTL:PT1H
BEGIN:VTIMEZONE
TZID:America/Chicago
BEGIN:DAYLIGHT
TZOFFSETFROM:-0600
TZOFFSETTO:-0500
TZNAME:CDT
DTSTART:20250309T080000
END:DAYLIGHT
BEGIN:STANDARD
TZOFFSETFROM:-0500
TZOFFSETTO:-0600
TZNAME:CST
DTSTART:20251102T070000
END:STANDARD
BEGIN:DAYLIGHT
TZOFFSETFROM:-0600
TZOFFSETTO:-0500
TZNAME:CDT
DTSTART:20260308T080000
END:DAYLIGHT
BEGIN:STANDARD
TZOFFSETFROM:-0500
TZOFFSETTO:-0600
TZNAME:CST
DTSTART:20261101T070000
END:STANDARD
BEGIN:DAYLIGHT
TZOFFSETFROM:-0600
TZOFFSETTO:-0500
TZNAME:CDT
DTSTART:20270314T080000
END:DAYLIGHT
BEGIN:STANDARD
TZOFFSETFROM:-0500
TZOFFSETTO:-0600
TZNAME:CST
DTSTART:20271107T070000
END:STANDARD
END:VTIMEZONE
BEGIN:VEVENT
DTSTART;TZID=America/Chicago:20260127T180000
DTEND;TZID=America/Chicago:20260127T210000
DTSTAMP:20260425T193301
CREATED:20231130T202524Z
LAST-MODIFIED:20260410T204220Z
UID:10032206-1769536800-1769547600@gnomegames.com
SUMMARY:Sip & Stitch At The Gnoshery
DESCRIPTION: Sip & Stitch Tuesdays are here! Get ready for a crafty good time every Tuesday from 6 PM – 9 PM! Bring your favorite project—whether it’s knitting\, crocheting\, or embroidery—and settle in for a cozy evening of stitching and sipping.  \nEnjoy a hot cup of coffee as you connect with fellow creators\, swap tips\, and let your imagination run wild. It’s the perfect way to unwind\, spark your creativity\, and enjoy a relaxed vibe with friends. \nCome for the craft\, stay for the coffee\, and let’s make something beautiful together! \nFollow us HERE
URL:https://gnomegames.com/event/sip-stitch-at-the-gnoshery/2026-01-27/
LOCATION:The Gnoshery – Sturgeon Bay\, 23 N. 3rd Ave\, STURGEON BAY\, WI\, 54235\, United States
ATTACH;FMTTYPE=image/png:https://gnomegames.com/wp-content/uploads/2023/11/SBy-Commander-3.png
END:VEVENT
BEGIN:VEVENT
DTSTART;TZID=America/Chicago:20260126T180000
DTEND;TZID=America/Chicago:20260126T210000
DTSTAMP:20260425T193301
CREATED:20231112T194748Z
LAST-MODIFIED:20260410T203822Z
UID:10031661-1769450400-1769461200@gnomegames.com
SUMMARY:MTG Commander Night At The Gnoshery
DESCRIPTION: Commander Nights are here! \nLooking for some casual fun with Magic: The Gathering? Join us every Monday & Friday from 6 PM – 9 PM for Commander Nights! \nGrab a bite to eat\, meet fellow planeswalkers\, and dive into epic Commander battles! Whether you’re a seasoned pro or just starting your journey\, it’s all about good vibes\, friendly competition\, and\, of course\, fun.\n Bring your favorite deck\, try something new\, or just watch the magic unfold. Great food\, great friends\, and great games await!\n See you there—let’s make some legendary memories!\n\nEntry Fee options: $5 Dollars\, a cafe purchase (food or beverage)\, or a Magic The Gathering purchase.
URL:https://gnomegames.com/event/commander-nights-at-the-gnoshery/2026-01-26/
LOCATION:The Gnoshery – Sturgeon Bay\, 23 N. 3rd Ave\, STURGEON BAY\, WI\, 54235\, United States
CATEGORIES:Magic the Gathering
ATTACH;FMTTYPE=image/png:https://gnomegames.com/wp-content/uploads/2023/11/SBy-Commander.png
ORGANIZER;CN="The Gnoshery - Gnome Games Sturgeon Bay":MAILTO:SBY@gnomegames.com
END:VEVENT
BEGIN:VEVENT
DTSTART;TZID=America/Chicago:20260126T180000
DTEND;TZID=America/Chicago:20260126T203000
DTSTAMP:20260425T193301
CREATED:20240826T202939Z
LAST-MODIFIED:20260410T203513Z
UID:10031385-1769450400-1769459400@gnomegames.com
SUMMARY:Yu-Gi-Oh Nights At The Gnoshery
DESCRIPTION:It’s time to d-d-d-duel!!!\n\nIt’s a Monday fun-day tournament!\n\n3 rounds win a match win an OTS pack. If you haven’t received an OTS pack by the end of the event\, you get one for coming and playing!\n\n\n$5 per player. \n\nLearn more HERE \n 
URL:https://gnomegames.com/event/yu-gi-oh-nights-at-the-gnoshery/2026-01-26/
LOCATION:The Gnoshery – Sturgeon Bay\, 23 N. 3rd Ave\, STURGEON BAY\, WI\, 54235\, United States
CATEGORIES:Yu-Gi-Oh
ATTACH;FMTTYPE=image/png:https://gnomegames.com/wp-content/uploads/2024/08/SBy-Commander-1.png
ORGANIZER;CN="The Gnoshery - Gnome Games Sturgeon Bay":MAILTO:SBY@gnomegames.com
END:VEVENT
END:VCALENDAR