BEGIN:VCALENDAR
VERSION:2.0
PRODID:-//Gnome Games - ECPv6.15.20//NONSGML v1.0//EN
CALSCALE:GREGORIAN
METHOD:PUBLISH
X-ORIGINAL-URL:https://gnomegames.com
X-WR-CALDESC:Events for Gnome Games
REFRESH-INTERVAL;VALUE=DURATION:PT1H
X-Robots-Tag:noindex
X-PUBLISHED-TTL:PT1H
BEGIN:VTIMEZONE
TZID:America/Chicago
BEGIN:DAYLIGHT
TZOFFSETFROM:-0600
TZOFFSETTO:-0500
TZNAME:CDT
DTSTART:20250309T080000
END:DAYLIGHT
BEGIN:STANDARD
TZOFFSETFROM:-0500
TZOFFSETTO:-0600
TZNAME:CST
DTSTART:20251102T070000
END:STANDARD
BEGIN:DAYLIGHT
TZOFFSETFROM:-0600
TZOFFSETTO:-0500
TZNAME:CDT
DTSTART:20260308T080000
END:DAYLIGHT
BEGIN:STANDARD
TZOFFSETFROM:-0500
TZOFFSETTO:-0600
TZNAME:CST
DTSTART:20261101T070000
END:STANDARD
BEGIN:DAYLIGHT
TZOFFSETFROM:-0600
TZOFFSETTO:-0500
TZNAME:CDT
DTSTART:20270314T080000
END:DAYLIGHT
BEGIN:STANDARD
TZOFFSETFROM:-0500
TZOFFSETTO:-0600
TZNAME:CST
DTSTART:20271107T070000
END:STANDARD
END:VTIMEZONE
BEGIN:VEVENT
DTSTART;TZID=America/Chicago:20260529T153000
DTEND;TZID=America/Chicago:20260529T210000
DTSTAMP:20260421T110512
CREATED:20260413T171754Z
LAST-MODIFIED:20260413T171754Z
UID:10033072-1780068600-1780088400@gnomegames.com
SUMMARY:Magic: Friday Commander Night at Gnome Games Green Bay East
DESCRIPTION:Join us for our weekly Magic: The Gathering Commander event.  This casual play event is fun for all levels of players. \nEVENTLINK CODES for Magic: The Gathering Companion App:\n @ 3:30PM – QMJ2EX8\n@ 5:30PM – 7GX3R7J\n@ 7:30PM – 65XYREX \nBring your 100 card edh deck and play! \nEntry for the Open Play Commander event is the purchase of any Magic: The Gathering Booster or Magic product of $5 or more. \nPrizes / Rewards include Promos\, Promo Packs and other cool Magic: The Gathering swag.  Prizes are awarded randomly to participating players throughout the three pods of play. \nWe seat pods at 3:30pm\, 5:30pm\, and 7:30pm to help players get multiple games in with different players! \nYour first time playing with us? Make sure you tell the Gnomes! Bring a friend along who has just started playing Magic? Let us know! \nFor more information on the Commander Format visit https://magic.wizards.com/en/formats/commander  \nLook for Magic products available at Gnome here! \nCheck out the event in Wizard’s Event Locator.
URL:https://gnomegames.com/event/magic-friday-commander-night-at-gnome-games-green-bay-east-6/
LOCATION:Gnome Games Green Bay East\, 1683 E. Mason Street\, Green Bay\, WI\, 54302\, United States
CATEGORIES:Casual / League Play,Collectible Card Games,Magic the Gathering
ATTACH;FMTTYPE=image/png:https://gnomegames.com/wp-content/uploads/2026/04/commander-spring.png
ORGANIZER;CN="Gnome Games Green Bay East":MAILTO:GBE@gnomegames.com
END:VEVENT
BEGIN:VEVENT
DTSTART;TZID=America/Chicago:20260530T110000
DTEND;TZID=America/Chicago:20260530T160000
DTSTAMP:20260421T110512
CREATED:20260413T192300Z
LAST-MODIFIED:20260413T192300Z
UID:10033090-1780138800-1780156800@gnomegames.com
SUMMARY:Board Game Day at Gnome Games Green Bay East
DESCRIPTION:Gnome Games Green Bay East invites you to play games at the table! \nOpen Play Board Games available to play! Bring your families and friends\, grab a table and a game and have some fun! \nStarts at 11am \nTons of board games to play in our library or bring your own! \nWe also have Gnomes who will be demoing games so check out our social media for sneak peaks at what might be the featured game! \n 
URL:https://gnomegames.com/event/board-game-day-at-gnome-games-green-bay-east-9/
LOCATION:Gnome Games Green Bay East\, 1683 E. Mason Street\, Green Bay\, WI\, 54302\, United States
CATEGORIES:Casual / League Play,Play Opportunity
ATTACH;FMTTYPE=image/jpeg:https://gnomegames.com/wp-content/uploads/2025/09/Game_Day.jpg
ORGANIZER;CN="Gnome Games Green Bay East":MAILTO:GBE@gnomegames.com
END:VEVENT
BEGIN:VEVENT
DTSTART;TZID=America/Chicago:20260530T153000
DTEND;TZID=America/Chicago:20260530T193000
DTSTAMP:20260421T110512
CREATED:20260413T191624Z
LAST-MODIFIED:20260413T191624Z
UID:10033086-1780155000-1780169400@gnomegames.com
SUMMARY:Gundam Saturdays at Gnome Games Green Bay East -
DESCRIPTION:Join in on the fun of the Gundam Card Game every Saturday at Gnome Games Green Bay East’s Gundam Tournament! \n\nOur Gundam tournament is at 3:30pm\, 3 rounds\, best of one. \nThis is also Win-A-Match\, Win-A-Pack! \nEveryone gets a Promo Pack and we will be giving out a random prize every round. Winner will also get a Winner Pack!\n\nGrab your favorite deck and we hope to see you there!\n\nBuild your deck based on current rules from info here!\nTeaching App can be found Here!
URL:https://gnomegames.com/event/gundam-saturdays-at-gnome-games-green-bay-east-17/
LOCATION:Gnome Games Green Bay East\, 1683 E. Mason Street\, Green Bay\, WI\, 54302\, United States
CATEGORIES:Tournament,Play Opportunity,Gundam TCG,Gundam Card Game
ATTACH;FMTTYPE=image/png:https://gnomegames.com/wp-content/uploads/2025/07/gundam-tournament.png
ORGANIZER;CN="Gnome Games Green Bay East":MAILTO:GBE@gnomegames.com
END:VEVENT
BEGIN:VEVENT
DTSTART;TZID=America/Chicago:20260530T160000
DTEND;TZID=America/Chicago:20260530T200000
DTSTAMP:20260421T110512
CREATED:20260413T175726Z
LAST-MODIFIED:20260413T175726Z
UID:10033081-1780156800-1780171200@gnomegames.com
SUMMARY:Digimon Saturdays at Gnome Games Green Bay East
DESCRIPTION:Digimon! Digital Monsters! Gnome Games! Saturdays! Exclamation points! \nEach Saturday\, Gnome Games Green Bay East invites Digimon players to join us for 3 rounds of play! DIGIMON CARD GAME from Bandai comes replete with promos and prizes! \nThese will be Store tournaments with decks constructed under official rules and ban lists: RULE｜DIGIMON CARD GAME \n“A tournament legal deck consists of:\n● a main deck of 50 cards\, made up of Digimon\, Tamer\, and Option Cards;\n● a Digi-Egg deck of 0-5 cards. \nNo more than four copies of the same card can be included in a deck. No side decks are permitted.\nYou must also bring a memory gauge and counter. Each player should track memory to avoid the sharing of materials.” \nBest-of-three Game Match\nNumber of game wins necessary: 2\nMatch Time: 45 minutes \nCheck our calendar for special Digimon events that happen around releases and special occasions!
URL:https://gnomegames.com/event/digimon-saturdays-at-gnome-games-green-bay-east-13/
LOCATION:Gnome Games Green Bay East\, 1683 E. Mason Street\, Green Bay\, WI\, 54302\, United States
CATEGORIES:Digimon,Tournament,Play Opportunity
ATTACH;FMTTYPE=image/png:https://gnomegames.com/wp-content/uploads/2024/08/admin-ajax.png
ORGANIZER;CN="Gnome Games Green Bay East":MAILTO:GBE@gnomegames.com
END:VEVENT
BEGIN:VEVENT
DTSTART;TZID=America/Chicago:20260531T130000
DTEND;TZID=America/Chicago:20260531T160000
DTSTAMP:20260421T110512
CREATED:20260413T175134Z
LAST-MODIFIED:20260413T175134Z
UID:10033077-1780232400-1780243200@gnomegames.com
SUMMARY:Pokémon League Sunday at Gnome Games Green Bay East
DESCRIPTION:Gnome Games Green Bay East Pokémon League\nPokémon League is a fun and accessible way for Pokémon fans to get together and have some fun! Gnome Games Green Bay East Pokémon League events are open to all Pokémon TCG and video game players regardless of experience level or skill. Using your own cards and Pokémon video games\, you can play\, trade\, and even earn cool prizes! The best part is that you can do all this with other Pokémon players who love collecting and playing just as much as you do. \nPokémon League events are a great way to learn game basics and get the feel for Pokémon competitive play before beginning to compete in Pokémon tournaments. In fact\, many Pokémon League locations also run Pokémon Championship Series competitions designed for Pokémon fans who are just getting started. \nGnome Games has Pokémon Professors on hand at league sessions to assist new players in learning the basics of the game\, creating new decks and  strategy\, and assisting with fair trading practices. \nGnome Games also has non-trading card game activities available for Pokémon fans of all ages and families are encouraged to join us as a fun family activity. \nFor more information about Pokemon Play! and Pokemon League visit the official Pokémon website. \nSundays busy? Visit on Wednesdays!
URL:https://gnomegames.com/event/pokemon-league-sunday-at-gnome-games-green-bay-east-10/
LOCATION:Gnome Games Green Bay East\, 1683 E. Mason Street\, Green Bay\, WI\, 54302\, United States
CATEGORIES:Casual / League Play,Play Opportunity,Pokémon
ATTACH;FMTTYPE=image/png:https://gnomegames.com/wp-content/uploads/2026/03/pkmn-league.png
ORGANIZER;CN="Gnome Games Green Bay East":MAILTO:GBE@gnomegames.com
END:VEVENT
END:VCALENDAR