BEGIN:VCALENDAR
VERSION:2.0
PRODID:-//Gnome Games - ECPv6.15.20//NONSGML v1.0//EN
CALSCALE:GREGORIAN
METHOD:PUBLISH
X-WR-CALNAME:Gnome Games
X-ORIGINAL-URL:https://gnomegames.com
X-WR-CALDESC:Events for Gnome Games
REFRESH-INTERVAL;VALUE=DURATION:PT1H
X-Robots-Tag:noindex
X-PUBLISHED-TTL:PT1H
BEGIN:VTIMEZONE
TZID:America/Chicago
BEGIN:DAYLIGHT
TZOFFSETFROM:-0600
TZOFFSETTO:-0500
TZNAME:CDT
DTSTART:20250309T080000
END:DAYLIGHT
BEGIN:STANDARD
TZOFFSETFROM:-0500
TZOFFSETTO:-0600
TZNAME:CST
DTSTART:20251102T070000
END:STANDARD
BEGIN:DAYLIGHT
TZOFFSETFROM:-0600
TZOFFSETTO:-0500
TZNAME:CDT
DTSTART:20260308T080000
END:DAYLIGHT
BEGIN:STANDARD
TZOFFSETFROM:-0500
TZOFFSETTO:-0600
TZNAME:CST
DTSTART:20261101T070000
END:STANDARD
BEGIN:DAYLIGHT
TZOFFSETFROM:-0600
TZOFFSETTO:-0500
TZNAME:CDT
DTSTART:20270314T080000
END:DAYLIGHT
BEGIN:STANDARD
TZOFFSETFROM:-0500
TZOFFSETTO:-0600
TZNAME:CST
DTSTART:20271107T070000
END:STANDARD
END:VTIMEZONE
BEGIN:VEVENT
DTSTART;TZID=America/Chicago:20260527T173000
DTEND;TZID=America/Chicago:20260527T203000
DTSTAMP:20260421T093308
CREATED:20260413T160359Z
LAST-MODIFIED:20260413T160359Z
UID:10033047-1779903000-1779913800@gnomegames.com
SUMMARY:Wednesday Pokémon VGC League at Gnome Games Green Bay East
DESCRIPTION:Gnome Games Green Bay East Pokémon League\nPokémon League is a fun and accessible way for Pokémon fans to get together and have some fun! Gnome Games Green Bay East Pokémon League events are open to all Pokémon  video game and TCG players regardless of experience level or skill. Using your own Pokémon video games\, you can play\, trade\, and even earn cool prizes! The best part is that you can do all this with other Pokémon players who love collecting and playing just as much as you do. \nPokémon League events are a great way to learn game basics and get the feel for Pokémon competitive play before beginning to compete in Pokémon tournaments. In fact\, many Pokémon League locations also run Pokémon Championship Series competitions designed for Pokémon fans who are just getting started. \nGnome Games has Pokémon Professors on hand at league sessions to assist new players in learning the basics of the game\, creating new decks and strategy\, and assisting with fair trading practices. \nGnome Games also has non-trading video game or card game activities available for Pokémon fans of all ages and families are encouraged to join us as a fun family activity. \nFor more information about Pokémon Play! and Pokémon League visit the official Pokémon website.\nJoin us for other Pokémon events by keeping up to date here: Pokémon League – Gnome Games Green Bay East – Gnome Games!
URL:https://gnomegames.com/event/wednesday-pokemon-vgc-league-at-gnome-games-green-bay-east-11/
LOCATION:Gnome Games Green Bay East\, 1683 E. Mason Street\, Green Bay\, WI\, 54302\, United States
CATEGORIES:Casual / League Play,Play Opportunity,Pokémon
ATTACH;FMTTYPE=image/png:https://gnomegames.com/wp-content/uploads/2026/02/Pokemon-VGC-league.png
ORGANIZER;CN="Gnome Games Green Bay East":MAILTO:GBE@gnomegames.com
END:VEVENT
BEGIN:VEVENT
DTSTART;TZID=America/Chicago:20260527T180000
DTEND;TZID=America/Chicago:20260527T200000
DTSTAMP:20260421T093308
CREATED:20260413T160642Z
LAST-MODIFIED:20260413T160642Z
UID:10033051-1779904800-1779912000@gnomegames.com
SUMMARY:D&D Wednesday 6pm at Gnome Games Green Bay East - $10
DESCRIPTION:Dungeons and Dragons is on Wednesdays at Gnome Games Green Bay East! \nWednesdays at 6pm we’ll have a Dungeon Master (DM) here to run a table of D&D from 6pm – 8:30pm! Table fees are $10. There are limited seats available for the Gnome DM\, but we can supply an additional adventure to a valiant DM who will run for additional players. \nThese are perfect events for brand new or recent players to join. Our adventures will frequently focus on helping new players join D&D! \nPregenerated Characters will be available: D&D Character Sheets | Dungeons & Dragons (wizards.com) for previews of some of the 1st level characters that will be available. \nBring your own dice or purchase a set when you come in! Are you ready to join the table? \nThere are a number of great resources for helping new players and new GMs learn Dungeons and Dragons! Here are a few: \nHow to Play | Dungeons & Dragons (wizards.com)\nSome playlists of YouTube videos for 1st time players:\nGinny Di: 28! videos on various tips and ways to play.\nDungeon Dudes: 20 videos on Character Creation.
URL:https://gnomegames.com/event/dd-wednesday-6pm-at-gnome-games-green-bay-east-10-13/
LOCATION:Gnome Games Green Bay East\, 1683 E. Mason Street\, Green Bay\, WI\, 54302\, United States
CATEGORIES:Role Playing
ATTACH;FMTTYPE=image/png:https://gnomegames.com/wp-content/uploads/2024/03/432657819_398564593115887_6498015590571436470_n.png
ORGANIZER;CN="Gnome Games Green Bay East":MAILTO:GBE@gnomegames.com
END:VEVENT
BEGIN:VEVENT
DTSTART;TZID=America/Chicago:20260527T180000
DTEND;TZID=America/Chicago:20260527T203000
DTSTAMP:20260421T093308
CREATED:20260413T165738Z
LAST-MODIFIED:20260413T165738Z
UID:10033055-1779904800-1779913800@gnomegames.com
SUMMARY:Wednesday Paint Night at Gnome Games Green Bay East - $5
DESCRIPTION:Bring your projects and swap tips!\n\nJoin other mini painters\, hang out\, and just have fun with your favorite hobby!\n\nAll painters are welcome\, no matter your skill level.\n\nEntry is either $5 or purchase of $5 of product (that’s like one D&D mini)!\n\nWe’ll set aside tables for painters every Wednesday evening and bring out some extra painting supplies for painters to share as they put brush to mini!
URL:https://gnomegames.com/event/wednesday-paint-night-at-gnome-games-green-bay-east-5-13/
LOCATION:Gnome Games Green Bay East\, 1683 E. Mason Street\, Green Bay\, WI\, 54302\, United States
ATTACH;FMTTYPE=image/png:https://gnomegames.com/wp-content/uploads/2024/03/432619647_1325212878145746_8490391168250824344_n.png
ORGANIZER;CN="Gnome Games Green Bay East":MAILTO:GBE@gnomegames.com
END:VEVENT
BEGIN:VEVENT
DTSTART;TZID=America/Chicago:20260528T170000
DTEND;TZID=America/Chicago:20260528T210000
DTSTAMP:20260421T093308
CREATED:20260413T165651Z
LAST-MODIFIED:20260413T165651Z
UID:10033059-1779987600-1780002000@gnomegames.com
SUMMARY:Illumineer's League: Disney Lorcana at Gnome Games Green Bay East
DESCRIPTION:Every Thursday starting at 5pm the Gnomes invite you to the Illumineer’s League for Disney Lorcana players! \nEntry to the Illumineer’s League is the cost of a Disney Lorcana booster pack! (That’s because you get a pack!) \nEach month we’re giving out different promos for those people who are returning players. Each month those who have attended a second event will receive a special promo! Attending 3 or more times in the month will put your name in to receive special pin! \nWe invite players to play games with each other\, whether it’s one on one or multiplayer games. Trade and talk about the game with fellow players! \nWatch for news on Disney Lorcana here: www.disneylorcana.com/en-US/news/\nCheck with the store for Disney Lorcana product here!
URL:https://gnomegames.com/event/illumineers-league-disney-lorcana-at-gnome-games-green-bay-east-15/
LOCATION:Gnome Games Green Bay East\, 1683 E. Mason Street\, Green Bay\, WI\, 54302\, United States
CATEGORIES:Disney Lorcana,Casual / League Play
ATTACH;FMTTYPE=image/png:https://gnomegames.com/wp-content/uploads/2024/08/Illumineers-League-Thursday.png
ORGANIZER;CN="Gnome Games Green Bay East":MAILTO:GBE@gnomegames.com
END:VEVENT
BEGIN:VEVENT
DTSTART;TZID=America/Chicago:20260528T173000
DTEND;TZID=America/Chicago:20260528T203000
DTSTAMP:20260421T093308
CREATED:20260413T170358Z
LAST-MODIFIED:20260413T170358Z
UID:10033063-1779989400-1780000200@gnomegames.com
SUMMARY:Disney Lorcana Thursday Tournaments at Gnome Games Green Bay East - $10
DESCRIPTION:Welcome Illumineer’s! There’s plenty of ink to sort out and lorebooks to fill with tournaments every Thursday at Gnome Games Green Bay East! \nWe start play at 5:30pm each Thursday and play 3 rounds. Each round is a best 2 of 3 match. Entry is $10 per player\, a legal Disney Lorcana deck is required. The winner of each match will win a Disney Lorcana booster pack! \nThe top 4 players of the event will receive a promotional Disney Lorcana card\, as long as there are 8 or more players. (Less than 8\, the top 2 players will receive a promo!) \nAll players get 1 Disney Lorcana booster pack (based on availability and choice at the end\, unless they’ve already won a pack during play!) \nWatch for news on Disney Lorcana here: www.disneylorcana.com/en-US/news/ \nCheck with the Gnome store for Disney Lorcana product here!
URL:https://gnomegames.com/event/disney-lorcana-thursday-tournaments-at-gnome-games-green-bay-east-10-8/
LOCATION:Gnome Games Green Bay East\, 1683 E. Mason Street\, Green Bay\, WI\, 54302\, United States
CATEGORIES:Disney Lorcana,Tournament,Collectible Card Games
ATTACH;FMTTYPE=image/png:https://gnomegames.com/wp-content/uploads/2023/12/423221266_775054151151339_3533258267942311243_n.png
ORGANIZER;CN="Gnome Games Green Bay East":MAILTO:GBE@gnomegames.com
END:VEVENT
BEGIN:VEVENT
DTSTART;TZID=America/Chicago:20260528T173000
DTEND;TZID=America/Chicago:20260528T210000
DTSTAMP:20260421T093308
CREATED:20260413T155935Z
LAST-MODIFIED:20260413T155936Z
UID:10033039-1779989400-1780002000@gnomegames.com
SUMMARY:Riftbound Nexus Nights - Thursdays at Green Bay East
DESCRIPTION:Join the Gnomes each Thursday at 5:30pm for Riftbound’s Nexus Nights! \nTournaments starting at 5:30pm\nEntry is $10\nWin a Match Win a Pack\, Riftbound Promos \nJoin us weekly for some fun Riftbound action. \nThe domains are: \n\nFury (Red) –\n\nFury is about aggression\, passion\, and the thrill of conquering.\nFury decks often use damage-based removal\, Accelerate (and other ways to enter ready)\, and rewards for conquering to achieve victory.\nGenerally\, Fury cards have a harder time drawing lots of cards or killing units directly\, especially units that stay out of combat in their base.\nExamples of Fury from popular fiction are Conan the Barbarian\, Blade\, and Anakin Skywalker.\n\n\nCalm (Green) –\n\nCalm is about balance\, meditation\, and the peace of holding.\nCalm decks often use defensive tricks\, moving enemies\, and negating interaction (like counterspells and stuns) to defend their holds and achieve victory.\nGenerally\, Calm cards have a harder time being very aggressive or interacting without using their units.\nExamples of Calm from popular fiction are Gandalf\, Baloo\, and Obi Wan Kenobi.\n\n\nMind (Blue) –\n\nMind is about innovation\, outsmarting opponents\, and the benefits of intelligence and curiosity.\nMind decks often use long-term planning\, shrinking tricks\, card draw\, hidden and gear synergy to gain an advantage and achieve victory.\nGenerally\, Mind cards have a harder time with moving units or having efficient units.\nExamples of Mind from popular fiction are Sherlock Holmes\, Curious George\, and Yoda.\n\n\nBody (Orange) –\n\nBody is about physical superiority\, agility\, and connection to the wilds.\nBody decks often ramp their resources\, play efficient and high impact units\, and dominate combats to achieve victory.\nGenerally\, Body cards have a harder time with finding efficient card draw or noncombat spells.\nExamples of Body from popular fiction are The Terminator\, Juggernaut\, and Chewbacca.\n\n\nChaos (Purple) –\n\nChaos is about unpredictability\, rebellion\, and trickiness.\nChaos decks often manipulate position and the trash\, use hidden tricks\, and filter toward the right cards to achieve victory.\nGenerally\, Chaos cards have a harder time permanently eliminating a threat or giving permanent advantages to its units.\nExamples of Chaos from popular fiction are V (for Vendetta)\, Spiderman\, and Han Solo.\n\n\nOrder (Yellow) –\n\nOrder is about unity\, community\, and sacrifice for the greater good.\nOrder decks often generate many small units\, gain effects on unit death\, and kill units directly to achieve victory.\nGenerally\, Order cards have a harder time dealing with smaller units and moving units.\nExamples of Order from popular fiction are Superman\, Cobra Commander\, and Leia Organa.\n\n\n\nOne way to start building a deck is to start with a domain you think fits your playstyle (or just style\, generally) and search for cool cards you might want to fit into a deck. \nLook for this and other events at our website: gnomegames.com/events/month!
URL:https://gnomegames.com/event/riftbound-nexus-nights-thursdays-at-green-bay-east-21/
LOCATION:Gnome Games Green Bay East\, 1683 E. Mason Street\, Green Bay\, WI\, 54302\, United States
CATEGORIES:Casual / League Play,Play Opportunity,Riftbound,Collectible Card Games
ATTACH;FMTTYPE=image/png:https://gnomegames.com/wp-content/uploads/2025/12/Nexus-Nights-Thursday-•-530pm.png
ORGANIZER;CN="Gnome Games Green Bay East":MAILTO:GBE@gnomegames.com
END:VEVENT
BEGIN:VEVENT
DTSTART;TZID=America/Chicago:20260529T153000
DTEND;TZID=America/Chicago:20260529T210000
DTSTAMP:20260421T093308
CREATED:20260413T171754Z
LAST-MODIFIED:20260413T171754Z
UID:10033072-1780068600-1780088400@gnomegames.com
SUMMARY:Magic: Friday Commander Night at Gnome Games Green Bay East
DESCRIPTION:Join us for our weekly Magic: The Gathering Commander event.  This casual play event is fun for all levels of players. \nEVENTLINK CODES for Magic: The Gathering Companion App:\n @ 3:30PM – QMJ2EX8\n@ 5:30PM – 7GX3R7J\n@ 7:30PM – 65XYREX \nBring your 100 card edh deck and play! \nEntry for the Open Play Commander event is the purchase of any Magic: The Gathering Booster or Magic product of $5 or more. \nPrizes / Rewards include Promos\, Promo Packs and other cool Magic: The Gathering swag.  Prizes are awarded randomly to participating players throughout the three pods of play. \nWe seat pods at 3:30pm\, 5:30pm\, and 7:30pm to help players get multiple games in with different players! \nYour first time playing with us? Make sure you tell the Gnomes! Bring a friend along who has just started playing Magic? Let us know! \nFor more information on the Commander Format visit https://magic.wizards.com/en/formats/commander  \nLook for Magic products available at Gnome here! \nCheck out the event in Wizard’s Event Locator.
URL:https://gnomegames.com/event/magic-friday-commander-night-at-gnome-games-green-bay-east-6/
LOCATION:Gnome Games Green Bay East\, 1683 E. Mason Street\, Green Bay\, WI\, 54302\, United States
CATEGORIES:Casual / League Play,Collectible Card Games,Magic the Gathering
ATTACH;FMTTYPE=image/png:https://gnomegames.com/wp-content/uploads/2026/04/commander-spring.png
ORGANIZER;CN="Gnome Games Green Bay East":MAILTO:GBE@gnomegames.com
END:VEVENT
BEGIN:VEVENT
DTSTART;TZID=America/Chicago:20260530T110000
DTEND;TZID=America/Chicago:20260530T160000
DTSTAMP:20260421T093308
CREATED:20260413T192300Z
LAST-MODIFIED:20260413T192300Z
UID:10033090-1780138800-1780156800@gnomegames.com
SUMMARY:Board Game Day at Gnome Games Green Bay East
DESCRIPTION:Gnome Games Green Bay East invites you to play games at the table! \nOpen Play Board Games available to play! Bring your families and friends\, grab a table and a game and have some fun! \nStarts at 11am \nTons of board games to play in our library or bring your own! \nWe also have Gnomes who will be demoing games so check out our social media for sneak peaks at what might be the featured game! \n 
URL:https://gnomegames.com/event/board-game-day-at-gnome-games-green-bay-east-9/
LOCATION:Gnome Games Green Bay East\, 1683 E. Mason Street\, Green Bay\, WI\, 54302\, United States
CATEGORIES:Casual / League Play,Play Opportunity
ATTACH;FMTTYPE=image/jpeg:https://gnomegames.com/wp-content/uploads/2025/09/Game_Day.jpg
ORGANIZER;CN="Gnome Games Green Bay East":MAILTO:GBE@gnomegames.com
END:VEVENT
BEGIN:VEVENT
DTSTART;TZID=America/Chicago:20260530T153000
DTEND;TZID=America/Chicago:20260530T193000
DTSTAMP:20260421T093308
CREATED:20260413T191624Z
LAST-MODIFIED:20260413T191624Z
UID:10033086-1780155000-1780169400@gnomegames.com
SUMMARY:Gundam Saturdays at Gnome Games Green Bay East -
DESCRIPTION:Join in on the fun of the Gundam Card Game every Saturday at Gnome Games Green Bay East’s Gundam Tournament! \n\nOur Gundam tournament is at 3:30pm\, 3 rounds\, best of one. \nThis is also Win-A-Match\, Win-A-Pack! \nEveryone gets a Promo Pack and we will be giving out a random prize every round. Winner will also get a Winner Pack!\n\nGrab your favorite deck and we hope to see you there!\n\nBuild your deck based on current rules from info here!\nTeaching App can be found Here!
URL:https://gnomegames.com/event/gundam-saturdays-at-gnome-games-green-bay-east-17/
LOCATION:Gnome Games Green Bay East\, 1683 E. Mason Street\, Green Bay\, WI\, 54302\, United States
CATEGORIES:Tournament,Play Opportunity,Gundam TCG,Gundam Card Game
ATTACH;FMTTYPE=image/png:https://gnomegames.com/wp-content/uploads/2025/07/gundam-tournament.png
ORGANIZER;CN="Gnome Games Green Bay East":MAILTO:GBE@gnomegames.com
END:VEVENT
BEGIN:VEVENT
DTSTART;TZID=America/Chicago:20260530T160000
DTEND;TZID=America/Chicago:20260530T200000
DTSTAMP:20260421T093308
CREATED:20260413T175726Z
LAST-MODIFIED:20260413T175726Z
UID:10033081-1780156800-1780171200@gnomegames.com
SUMMARY:Digimon Saturdays at Gnome Games Green Bay East
DESCRIPTION:Digimon! Digital Monsters! Gnome Games! Saturdays! Exclamation points! \nEach Saturday\, Gnome Games Green Bay East invites Digimon players to join us for 3 rounds of play! DIGIMON CARD GAME from Bandai comes replete with promos and prizes! \nThese will be Store tournaments with decks constructed under official rules and ban lists: RULE｜DIGIMON CARD GAME \n“A tournament legal deck consists of:\n● a main deck of 50 cards\, made up of Digimon\, Tamer\, and Option Cards;\n● a Digi-Egg deck of 0-5 cards. \nNo more than four copies of the same card can be included in a deck. No side decks are permitted.\nYou must also bring a memory gauge and counter. Each player should track memory to avoid the sharing of materials.” \nBest-of-three Game Match\nNumber of game wins necessary: 2\nMatch Time: 45 minutes \nCheck our calendar for special Digimon events that happen around releases and special occasions!
URL:https://gnomegames.com/event/digimon-saturdays-at-gnome-games-green-bay-east-13/
LOCATION:Gnome Games Green Bay East\, 1683 E. Mason Street\, Green Bay\, WI\, 54302\, United States
CATEGORIES:Digimon,Tournament,Play Opportunity
ATTACH;FMTTYPE=image/png:https://gnomegames.com/wp-content/uploads/2024/08/admin-ajax.png
ORGANIZER;CN="Gnome Games Green Bay East":MAILTO:GBE@gnomegames.com
END:VEVENT
BEGIN:VEVENT
DTSTART;TZID=America/Chicago:20260531T130000
DTEND;TZID=America/Chicago:20260531T160000
DTSTAMP:20260421T093308
CREATED:20260413T175134Z
LAST-MODIFIED:20260413T175134Z
UID:10033077-1780232400-1780243200@gnomegames.com
SUMMARY:Pokémon League Sunday at Gnome Games Green Bay East
DESCRIPTION:Gnome Games Green Bay East Pokémon League\nPokémon League is a fun and accessible way for Pokémon fans to get together and have some fun! Gnome Games Green Bay East Pokémon League events are open to all Pokémon TCG and video game players regardless of experience level or skill. Using your own cards and Pokémon video games\, you can play\, trade\, and even earn cool prizes! The best part is that you can do all this with other Pokémon players who love collecting and playing just as much as you do. \nPokémon League events are a great way to learn game basics and get the feel for Pokémon competitive play before beginning to compete in Pokémon tournaments. In fact\, many Pokémon League locations also run Pokémon Championship Series competitions designed for Pokémon fans who are just getting started. \nGnome Games has Pokémon Professors on hand at league sessions to assist new players in learning the basics of the game\, creating new decks and  strategy\, and assisting with fair trading practices. \nGnome Games also has non-trading card game activities available for Pokémon fans of all ages and families are encouraged to join us as a fun family activity. \nFor more information about Pokemon Play! and Pokemon League visit the official Pokémon website. \nSundays busy? Visit on Wednesdays!
URL:https://gnomegames.com/event/pokemon-league-sunday-at-gnome-games-green-bay-east-10/
LOCATION:Gnome Games Green Bay East\, 1683 E. Mason Street\, Green Bay\, WI\, 54302\, United States
CATEGORIES:Casual / League Play,Play Opportunity,Pokémon
ATTACH;FMTTYPE=image/png:https://gnomegames.com/wp-content/uploads/2026/03/pkmn-league.png
ORGANIZER;CN="Gnome Games Green Bay East":MAILTO:GBE@gnomegames.com
END:VEVENT
END:VCALENDAR